BEGIN:VCALENDAR
VERSION:2.0
PRODID:-//ChamberMaster//Event Calendar 2.0//EN
METHOD:PUBLISH
X-PUBLISHED-TTL:P3D
REFRESH-INTERVAL:P3D
CALSCALE:GREGORIAN
BEGIN:VEVENT
DTSTART:20170419T133000Z
DTEND:20170419T150000Z
X-MICROSOFT-CDO-ALLDAYEVENT:FALSE
SUMMARY:What Sticks in Business?
DESCRIPTION:Many small business owners recognize that they spend too much time working 'in their business and not on their business.'Reason being\, most don't know where to start\, how to prioritize or where to focus to successfully accomplish this. This session highlights the key need for soft skills in business and how business owners can start taking action towards working 'on their businesses.'\n\nThis presentation workshop provides an overview of critical components to running a business (STIICX) as well as examples of how innovative and interactive techniques can help them identify\, examine and resolve the everyday challenges in their business.\n\nLight breakfast will be provided.\n\n\n\nREGISTER HERE
X-ALT-DESC;FMTTYPE=text/html:<span style="font-size:14px\;"><span style="padding-top:0px\;">Many small business owners recognize that they spend too much time working&nbsp\;<em style="padding-top:0px\;">&lsquo\;in their business and not on their business.&rsquo\;</em>Reason being\, most don&rsquo\;t know where to start\, how to prioritize or where to focus to successfully accomplish this. This session highlights the key need for soft skills in business and how business owners can start taking action towards working &lsquo\;on their businesses.&rsquo\;</span></span><br />\n<span style="padding-top:0px\;"><span style="font-size:14px\;">This presentation workshop provides an overview of critical components to running a business (</span>STIICX) as well as examples of how innovative and interactive techniques can help them identify\, examine and resolve the everyday challenges in their business.<br />\n<em>Light breakfast will be provided.</em><br />\n<br />\n<a href="https://www.eventbrite.com/e/what-stiicx-in-business-tickets-33427672067"><strong><span style="font-size:16px\;">REGISTER HERE</span></strong></a></span>
LOCATION:Maestro Entrepreneur Center 1811 S. Laredo St. San Antonio\, TX 78207
UID:e.2966.1712
SEQUENCE:3
DTSTAMP:20260420T215404Z
URL:http://sahcc-dev.chambermaster.com/events/details/what-sticks-in-business-1712
END:VEVENT

END:VCALENDAR
