BEGIN:VCALENDAR
VERSION:2.0
PRODID:-//ChamberMaster//Event Calendar 2.0//EN
METHOD:PUBLISH
X-PUBLISHED-TTL:P3D
REFRESH-INTERVAL:P3D
CALSCALE:GREGORIAN
BEGIN:VEVENT
DTSTART:20161205T173000Z
DTEND:20161205T190000Z
X-MICROSOFT-CDO-ALLDAYEVENT:FALSE
SUMMARY:Tricentennial Economic Impact Study Luncheon
DESCRIPTION:
X-ALT-DESC;FMTTYPE=text/html:<DIV align=left>&nbsp\;</DIV><DIV align=left><FONT size=4></FONT>&nbsp\;</DIV>
LOCATION:
UID:e.2966.345
SEQUENCE:3
DTSTAMP:20260425T133709Z
URL:http://sahcc-dev.chambermaster.com/events/details/tricentennial-economic-impact-study-luncheon-345
END:VEVENT

END:VCALENDAR
