BEGIN:VCALENDAR
VERSION:2.0
PRODID:-//ChamberMaster//Event Calendar 2.0//EN
METHOD:PUBLISH
X-PUBLISHED-TTL:P3D
REFRESH-INTERVAL:P3D
CALSCALE:GREGORIAN
BEGIN:VEVENT
DTSTART:20170205T000000Z
DTEND:20170205T050000Z
X-MICROSOFT-CDO-ALLDAYEVENT:FALSE
SUMMARY:The 88th Annual Gala
DESCRIPTION:
X-ALT-DESC;FMTTYPE=text/html:<DIV style="FONT-FAMILY: Arial" align=center><STRONG><FONT color=#ff0000 size=5></FONT></STRONG>&nbsp\;</DIV>
LOCATION:The Grand Hyatt San Antonio600 East Market Street San Antonio\, TX 78205
UID:e.2966.346
SEQUENCE:3
DTSTAMP:20260421T132250Z
URL:http://sahcc-dev.chambermaster.com/events/details/the-88th-annual-gala-346
END:VEVENT

END:VCALENDAR
