BEGIN:VCALENDAR
VERSION:2.0
PRODID:-//ChamberMaster//Event Calendar 2.0//EN
METHOD:PUBLISH
X-PUBLISHED-TTL:P3D
REFRESH-INTERVAL:P3D
CALSCALE:GREGORIAN
BEGIN:VEVENT
DTSTART:20170307T143000Z
DTEND:20170307T170000Z
X-MICROSOFT-CDO-ALLDAYEVENT:FALSE
SUMMARY:Preventing Workplace Violence
DESCRIPTION:Overall\, roughly 2 million workers a year are affected by some form of workplace violence. Chief Criminal Investigator for the Bexar County District Attorney's Office\, Willie Ng\, will share best practices and tips to successfully overcome violent situations.\n\n\n\nREGISTER HERE!
X-ALT-DESC;FMTTYPE=text/html:<br />\n<span style="color: rgb(72\, 66\, 63)\; font-family: &quot\;Droid Sans&quot\;\, Arial\, sans-serif\; font-size: 12px\;">Overall\,&nbsp\;roughly&nbsp\;2&nbsp\;million&nbsp\;workers&nbsp\;a&nbsp\;year&nbsp\;are&nbsp\;affected&nbsp\;by&nbsp\;some form&nbsp\;of&nbsp\;workplace&nbsp\;violence.&nbsp\;Chief Criminal Investigator for the Bexar County District Attorney&rsquo\;s Office\, <strong>Willie Ng</strong>\, will share best practices and tips to successfully overcome violent situations.<br />\n<br />\n<a href="https://www.eventbrite.com/e/preventing-workplace-violence-tickets-32282113671"><span style="font-size:16px\;"><strong>REGISTER HERE!</strong></span></a></span>
LOCATION:Maestro Entrepreneur Center 1811 S. Laredo St. San Antonio\, Texas 78207
UID:e.2966.1325
SEQUENCE:3
DTSTAMP:20260420T223405Z
URL:http://sahcc-dev.chambermaster.com/events/details/preventing-workplace-violence-1325
END:VEVENT

END:VCALENDAR
