BEGIN:VCALENDAR
VERSION:2.0
PRODID:-//ChamberMaster//Event Calendar 2.0//EN
METHOD:PUBLISH
X-PUBLISHED-TTL:P3D
REFRESH-INTERVAL:P3D
CALSCALE:GREGORIAN
BEGIN:VEVENT
DTSTART:20160630T140000Z
DTEND:20160630T150000Z
X-MICROSOFT-CDO-ALLDAYEVENT:FALSE
SUMMARY:Membership Drive Information Session
DESCRIPTION:Join us to learn more about how to get involved and participate in our 2016 Membership Drive Challenge. \n\nFor more information please contact Erica Solis at ericas@sahcc.org.
X-ALT-DESC;FMTTYPE=text/html:Join us to learn more about how to get involved and participate in our 2016 Membership Drive Challenge. \n\nFor more information please contact Erica Solis at ericas@sahcc.org.
LOCATION:San Antonio Area Foundation303 Pearl Parkway\, Suite 114 San Antonio\, TX 78215
UID:e.2966.312
SEQUENCE:3
DTSTAMP:20260423T221613Z
URL:http://sahcc-dev.chambermaster.com/events/details/membership-drive-information-session-312
END:VEVENT

END:VCALENDAR
