BEGIN:VCALENDAR
VERSION:2.0
PRODID:-//ChamberMaster//Event Calendar 2.0//EN
METHOD:PUBLISH
X-PUBLISHED-TTL:P3D
REFRESH-INTERVAL:P3D
CALSCALE:GREGORIAN
BEGIN:VEVENT
DTSTART:20170426T133000Z
DTEND:20170426T143000Z
X-MICROSOFT-CDO-ALLDAYEVENT:FALSE
SUMMARY:Maestro Book Club Information Session
DESCRIPTION:The Maestro Entrepreneur Center is starting our very own book club! In this informational session\, we will discuss the various book topics and focuses as well as provide future meeting times and details.\n\n\n\nREGISTER HERE
X-ALT-DESC;FMTTYPE=text/html:<span style="font-size:14px\;"><span style="color: rgb(102\, 106\, 115)\; font-family: &quot\;Benton Sans&quot\;\, &quot\;Helvetica Neue&quot\;\, Helvetica\, Roboto\, Arial\, sans-serif\; letter-spacing: 0.5px\;">The Maestro Entrepreneur Center is starting our very own book club! In this informational session\, we will discuss the various book topics and focuses as well as provide future meeting times and details.<br />\n<br />\n<a href="https://www.eventbrite.com/e/maestro-book-club-information-session-tickets-33436749217"><strong>REGISTER HERE</strong></a></span></span>
LOCATION:Maestro Entrepreneur Center 1811 S. Laredo St. San Antonio\, TX 78207
UID:e.2966.1714
SEQUENCE:3
DTSTAMP:20260422T071624Z
URL:http://sahcc-dev.chambermaster.com/events/details/maestro-book-club-information-session-1714
END:VEVENT

END:VCALENDAR
