BEGIN:VCALENDAR
VERSION:2.0
PRODID:-//ChamberMaster//Event Calendar 2.0//EN
METHOD:PUBLISH
X-PUBLISHED-TTL:P3D
REFRESH-INTERVAL:P3D
CALSCALE:GREGORIAN
BEGIN:VEVENT
DTSTART:20160413T163000Z
DTEND:20160413T180000Z
X-MICROSOFT-CDO-ALLDAYEVENT:FALSE
SUMMARY:Lunch & Learn: Stop Selling Empirically presented by Sandler Training
DESCRIPTION:
X-ALT-DESC;FMTTYPE=text/html:<DIV style="FONT-FAMILY: Arial">&nbsp\;</DIV>
LOCATION:San Antonio Hispanic Chamber of Commerce200 E Grayson St.\, Suite 203 San Antonio\, TX 78215
UID:e.2966.285
SEQUENCE:3
DTSTAMP:20260424T232046Z
URL:http://sahcc-dev.chambermaster.com/events/details/lunch-learn-stop-selling-empirically-presented-by-sandler-training-285
END:VEVENT

END:VCALENDAR
