BEGIN:VCALENDAR
VERSION:2.0
PRODID:-//ChamberMaster//Event Calendar 2.0//EN
METHOD:PUBLISH
X-PUBLISHED-TTL:P3D
REFRESH-INTERVAL:P3D
CALSCALE:GREGORIAN
BEGIN:VEVENT
DTSTART:20170111T143000Z
DTEND:20170111T153000Z
X-MICROSOFT-CDO-ALLDAYEVENT:FALSE
SUMMARY:January 2017 New Member Orientation
DESCRIPTION:Thank you for joining the San Antonio Hispanic Chamber of Commerce! Join us at New Member Orientation to learn more about how to maximize your membership benefits. For questions please call 210-225-0462 or RSVP to Magdalena Ortega at magdalenao@sahcc.org \n8:45 a.m. - Registration\n9:00 a.m. - Breakfast & Presentation Begins \nThe event is sponsored by Vantage Bank of Texas and Taco Taco Café.
X-ALT-DESC;FMTTYPE=text/html:<P align=center>Thank you for joining the San Antonio Hispanic Chamber of Commerce! Join us at New Member Orientation to learn more about how to maximize your membership benefits. </P><P align=center>For questions please call 210-225-0462 or RSVP to Magdalena Ortega at <A href="mailto:magdalenao@sahcc.org">magdalenao@sahcc.org</A> </P><P align=center><BR>8:45 a.m. - Registration<BR>9:00 a.m. - Breakfast &amp\; Presentation Begins <BR>The event is sponsored by Vantage Bank of Texas and Taco Taco Café. </P>
LOCATION:San Antonio Hispanic Chamber of Commerce200 E Grayson St.\, Suite 203 San Antonio\, TX 78215
UID:e.2966.351
SEQUENCE:3
DTSTAMP:20260422T234117Z
URL:http://sahcc-dev.chambermaster.com/events/details/january-2017-new-member-orientation-351
END:VEVENT

END:VCALENDAR
