BEGIN:VCALENDAR
VERSION:2.0
PRODID:-//ChamberMaster//Event Calendar 2.0//EN
METHOD:PUBLISH
X-PUBLISHED-TTL:P3D
REFRESH-INTERVAL:P3D
CALSCALE:GREGORIAN
BEGIN:VEVENT
DTSTART:20170525T133000Z
DTEND:20170525T150000Z
X-MICROSOFT-CDO-ALLDAYEVENT:FALSE
SUMMARY:HR Solutions for Small Businesses
DESCRIPTION:Join us and learn about the benefits of using a Professional Employer Organization (PEO) and how it can help small business owners save time and reduce employee-related expenses. This workshop is designed to help business owners move to the next level! You'll get a look at the PEO service industry and the benefits to business owners and their employees!\n\nTopics include:\n\n\n	What is a Professional Employee Organization (PEO) and ASO service?\n	Three reasons why businesses look for PEO services\n	Reducing Labor Cost and Eliminating Exposures\n	Lowering Worker Compensation Cost\n	Lowering Health Insurance Cost\n	Reducing Employer Liabilities\n	How to attract and maintain good employees\n\n\nAbout our Presenter: Bradley Stroud started in the Professional Employer Organization (PEO) industry in 1997. He worked for three of the top PEO firms in the country developing a strong understanding of the industry. Bradley established his own firm\, StroudLink\, in 2004 after realizing a tremendous demand to help businesses find PEO services that best fit their own unique challenges. Furthermore\, StroudLink helps businesses find the PEO/Human Resource Outsourcing Service that best fits their specific needs and budget regardless of employee size or type of work they perform. \n\n\n\nREGISTER HERE!
X-ALT-DESC;FMTTYPE=text/html:<p style="margin: 0px\; padding: 0px\; color: rgb(102\, 106\, 115)\; font-family: &quot\;Benton Sans&quot\;\, &quot\;Helvetica Neue&quot\;\, Helvetica\, Roboto\, Arial\, sans-serif\; font-size: 15px\; letter-spacing: 0.5px\;"><span style="padding-top: 0px\;">Join us and learn about the benefits of using a Professional Employer Organization (PEO) and how it can help small business owners save time and reduce employee-related expenses.&nbsp\;</span>This workshop is designed to help business owners move to the next level! You&#39\;ll get a look at the PEO service industry and the benefits to business owners and their employees!</p>\n\n<p style="margin: 0px\; padding: 10px 0px 0px\; color: rgb(102\, 106\, 115)\; font-family: &quot\;Benton Sans&quot\;\, &quot\;Helvetica Neue&quot\;\, Helvetica\, Roboto\, Arial\, sans-serif\; font-size: 15px\; letter-spacing: 0.5px\;">Topics include:</p>\n\n<ul style="margin: 0px\; padding-top: 10px\; padding-right: 0px\; padding-left: 2em\; list-style-position: initial\; list-style-image: initial\; color: rgb(102\, 106\, 115)\; font-family: &quot\;Benton Sans&quot\;\, &quot\;Helvetica Neue&quot\;\, Helvetica\, Roboto\, Arial\, sans-serif\; font-size: 15px\; letter-spacing: 0.5px\;">\n	<li style="margin: 0px\; padding: 0px\;">What is a Professional Employee Organization (PEO) and ASO service?</li>\n	<li style="margin: 0px\; padding: 5px 0px 0px\;">Three reasons why businesses look for PEO services</li>\n	<li style="margin: 0px\; padding: 5px 0px 0px\;">Reducing Labor Cost and Eliminating Exposures</li>\n	<li style="margin: 0px\; padding: 5px 0px 0px\;">Lowering Worker Compensation Cost</li>\n	<li style="margin: 0px\; padding: 5px 0px 0px\;">Lowering Health Insurance Cost</li>\n	<li style="margin: 0px\; padding: 5px 0px 0px\;">Reducing Employer Liabilities</li>\n	<li style="margin: 0px\; padding: 5px 0px 0px\;">How to attract and maintain good employees</li>\n</ul>\n\n<p style="margin: 0px\; padding: 10px 0px 0px\; color: rgb(102\, 106\, 115)\; font-family: &quot\;Benton Sans&quot\;\, &quot\;Helvetica Neue&quot\;\, Helvetica\, Roboto\, Arial\, sans-serif\; font-size: 15px\; letter-spacing: 0.5px\;"><span style="padding-top: 0px\;">About our Presenter: Bradley Stroud started in the Professional Employer Organization (PEO) industry in 1997. He worked for three of the top PEO firms in the country developing a strong understanding of the industry. Bradley established his own firm\, StroudLink\, in 2004 after realizing a tremendous demand to help businesses find PEO services that best fit their own unique challenges. Furthermore\, StroudLink helps businesses find the PEO/Human Resource Outsourcing Service that best fits their specific needs and budget regardless of employee size or type of work they perform.&nbsp\;</span><br />\n<br />\n<span style="font-size:16px\;"><a href="https://www.eventbrite.com/e/hr-solutions-for-small-businesses-tickets-34053847976"><strong>REGISTER HERE!</strong></a></span></p>\n
LOCATION:Maestro Entrepreneur Center 1811 S. Laredo St. San Antonio\, TX 78207
UID:e.2966.1735
SEQUENCE:3
DTSTAMP:20260419T221919Z
URL:http://sahcc-dev.chambermaster.com/events/details/hr-solutions-for-small-businesses-1735
END:VEVENT

END:VCALENDAR
