BEGIN:VCALENDAR
VERSION:2.0
PRODID:-//ChamberMaster//Event Calendar 2.0//EN
METHOD:PUBLISH
X-PUBLISHED-TTL:P3D
REFRESH-INTERVAL:P3D
CALSCALE:GREGORIAN
BEGIN:VEVENT
DTSTART:20160728T163000Z
DTEND:20160728T180000Z
X-MICROSOFT-CDO-ALLDAYEVENT:FALSE
SUMMARY:Financial Management Series
DESCRIPTION:Small business owners are invited to learn how to better manage their company's finances through helpful strategies and tools. For more information contact Martha Zurita at MarthaZ@sahcc.org or 210.208.8226
X-ALT-DESC;FMTTYPE=text/html:Small business owners are invited to learn how to better manage their company's finances through helpful strategies and tools. For more information contact Martha Zurita at MarthaZ@sahcc.org or 210.208.8226
LOCATION:Maestro Entrepreneur Center1811 S. Laredo St. San Antonio\, TX 78207
UID:e.2966.320
SEQUENCE:3
DTSTAMP:20260424T053219Z
URL:http://sahcc-dev.chambermaster.com/events/details/financial-management-series-320
END:VEVENT

END:VCALENDAR
