BEGIN:VCALENDAR
VERSION:2.0
PRODID:-//ChamberMaster//Event Calendar 2.0//EN
METHOD:PUBLISH
X-PUBLISHED-TTL:P3D
REFRESH-INTERVAL:P3D
CALSCALE:GREGORIAN
BEGIN:VEVENT
DTSTART:20170209T150000Z
DTEND:20170209T160000Z
X-MICROSOFT-CDO-ALLDAYEVENT:FALSE
SUMMARY:February 2017 New Member Orientation
DESCRIPTION:Thank you for joining the San Antonio Hispanic Chamber of Commerce! Join us at New Member Orientation to learn more about how to maximize your membership benefits. For questions please call 210-225-0462 or RSVP to Magdalena Ortega at magdalenao@sahcc.org \n8:45 a.m. - Registration\n9:00 a.m. - Breakfast & Presentation Begins \nThe event is sponsored by Vantage Bank of Texas and Taco Taco Café.
X-ALT-DESC;FMTTYPE=text/html:<P align=center>Thank you for joining the San Antonio Hispanic Chamber of Commerce! Join us at New Member Orientation to learn more about how to maximize your membership benefits. For questions please call 210-225-0462 or RSVP to Magdalena Ortega at <A href="mailto:magdalenao@sahcc.org">magdalenao@sahcc.org</A> <BR>8:45 a.m. - Registration<BR>9:00 a.m. - Breakfast &amp\; Presentation Begins <BR>The event is sponsored by Vantage Bank of Texas and Taco Taco Café. </P>
LOCATION:San Antonio Hispanic Chamber of Commerce200 E Grayson St.\, Suite 203 San Antonio\, TX 78215
UID:e.2966.352
SEQUENCE:3
DTSTAMP:20260425T012249Z
URL:http://sahcc-dev.chambermaster.com/events/details/february-2017-new-member-orientation-352
END:VEVENT

END:VCALENDAR
