BEGIN:VCALENDAR
VERSION:2.0
PRODID:-//ChamberMaster//Event Calendar 2.0//EN
METHOD:PUBLISH
X-PUBLISHED-TTL:P3D
REFRESH-INTERVAL:P3D
CALSCALE:GREGORIAN
BEGIN:VEVENT
DTSTART:20170425T150000Z
DTEND:20170426T040000Z
X-MICROSOFT-CDO-ALLDAYEVENT:FALSE
SUMMARY:Education Committee Meeting
DESCRIPTION:
X-ALT-DESC;FMTTYPE=text/html:
LOCATION:San Antonio Hispanic Chamber of Commerce 200 E. Grayson #203 San Antonio\, TX 78215
UID:e.2966.1706
SEQUENCE:3
DTSTAMP:20260420T043600Z
URL:http://sahcc-dev.chambermaster.com/events/details/education-committee-meeting-1706
END:VEVENT

END:VCALENDAR
