BEGIN:VCALENDAR
VERSION:2.0
PRODID:-//ChamberMaster//Event Calendar 2.0//EN
METHOD:PUBLISH
X-PUBLISHED-TTL:P3D
REFRESH-INTERVAL:P3D
CALSCALE:GREGORIAN
BEGIN:VEVENT
DTSTART:20160809T133000Z
DTEND:20160809T150000Z
X-MICROSOFT-CDO-ALLDAYEVENT:FALSE
SUMMARY:August 2016 New Member Orientation
DESCRIPTION:Thank you for joining the San Antonio Hispanic Chamber of Commerce! Join us at New Member Orientation to learn more about how to maximize your membership benefits. For questions please call 210-225-0462 or RSVP to Erica Solis at ericas@sahcc.org 8:45 a.m. Registration & Breakfast9:00 a.m. Presentation begins Sponsored by: Vantage Bank of Texas
X-ALT-DESC;FMTTYPE=text/html:<P align=center><STRONG>Thank you for joining the San Antonio Hispanic Chamber of Commerce! </STRONG></P><P align=center><STRONG>Join us at New Member Orientation to learn more about how to maximize your membership benefits. </STRONG></P><P align=center>For questions please call 210-225-0462 or RSVP to Erica Solis at ericas@sahcc.org</P><P align=center>&nbsp\;8:45 a.m. Registration &amp\; Breakfast</P><P align=center>9:00 a.m. Presentation begins </P><P align=center>Sponsored by: Vantage Bank of Texas</P>
LOCATION:Anne Marie's Catering12475 Starcrest San Antonio\, TX 78216
UID:e.2966.318
SEQUENCE:3
DTSTAMP:20260424T013707Z
URL:http://sahcc-dev.chambermaster.com/events/details/august-2016-new-member-orientation-318
END:VEVENT

END:VCALENDAR
