BEGIN:VCALENDAR
VERSION:2.0
PRODID:-//ChamberMaster//Event Calendar 2.0//EN
METHOD:PUBLISH
X-PUBLISHED-TTL:P3D
REFRESH-INTERVAL:P3D
CALSCALE:GREGORIAN
BEGIN:VEVENT
DTSTART:20170321T133000Z
DTEND:20170321T150000Z
X-MICROSOFT-CDO-ALLDAYEVENT:FALSE
SUMMARY:5 Ways to Higher Profits
DESCRIPTION:If you are like most business owners\, you want more: more customers\, more revenues\, or more profits. The problem is all three of these factors are end results\, not what really drives your business. This seminar will cover five main areas that actually drive your business and deliver the massive increases in your bottom line.\n\n\n	Over 70 lead generation strategies\n	50 Ways to increase the value of every transaction\n	More than 50 proven strategies to productively jump revenues\n	More than 70 systems to boost your bottom line\n\n\nCome and learn the 5 Ways to Higher Profit. You owe it to yourself to invest some of your time learning how your business can reach its full potential! Turn your Business into a WINNING Business today.
X-ALT-DESC;FMTTYPE=text/html:<p style="margin: 0px\; padding: 0px\; color: rgb(102\, 106\, 115)\; font-family: &quot\;Benton Sans&quot\;\, &quot\;Helvetica Neue&quot\;\, Helvetica\, Roboto\, Arial\, sans-serif\; font-size: 15px\; letter-spacing: 0.5px\;"><span style="font-size:14px\;">If you are like most business owners\, you want more: more customers\, more revenues\, or more profits. The problem is all three of these factors are end results\, not what really drives your business. This seminar will cover five main areas that actually drive your business and deliver the massive increases in your bottom line.</span></p>\n\n<ul style="margin: 0px\; padding-top: 10px\; padding-right: 0px\; padding-left: 2em\; list-style-position: initial\; list-style-image: initial\; color: rgb(102\, 106\, 115)\; font-family: &quot\;Benton Sans&quot\;\, &quot\;Helvetica Neue&quot\;\, Helvetica\, Roboto\, Arial\, sans-serif\; font-size: 15px\; letter-spacing: 0.5px\;">\n	<li style="margin: 0px\; padding: 0px\;"><span style="font-size:14px\;">Over 70 lead generation strategies</span></li>\n	<li style="margin: 0px\; padding: 5px 0px 0px\;"><span style="font-size:14px\;">50 Ways to increase the value of every transaction</span></li>\n	<li style="margin: 0px\; padding: 5px 0px 0px\;"><span style="font-size:14px\;">More than 50 proven strategies to productively jump revenues</span></li>\n	<li style="margin: 0px\; padding: 5px 0px 0px\;"><span style="font-size:14px\;">More than 70 systems to boost your bottom line</span></li>\n</ul>\n\n<p style="margin: 0px\; padding: 10px 0px 0px\; color: rgb(102\, 106\, 115)\; font-family: &quot\;Benton Sans&quot\;\, &quot\;Helvetica Neue&quot\;\, Helvetica\, Roboto\, Arial\, sans-serif\; font-size: 15px\; letter-spacing: 0.5px\;"><span style="font-size:14px\;">Come and learn the 5 Ways to Higher Profit. You owe it to yourself to invest some of your time learning how your business can reach its full potential! Turn your Business into a WINNING Business today.</span></p>\n
LOCATION:Maestro Entrepreneur Center 1811 S. Laredo St. San Antonio\, Texas 78207
UID:e.2966.1692
SEQUENCE:3
DTSTAMP:20260419T233531Z
URL:http://sahcc-dev.chambermaster.com/events/details/5-ways-to-higher-profits-1692
END:VEVENT

END:VCALENDAR
