BEGIN:VCALENDAR
VERSION:2.0
PRODID:-//ChamberMaster//Event Calendar 2.0//EN
METHOD:PUBLISH
X-PUBLISHED-TTL:P3D
REFRESH-INTERVAL:P3D
CALSCALE:GREGORIAN
BEGIN:VEVENT
DTSTART:20160521T170000Z
DTEND:20160529T003500Z
X-MICROSOFT-CDO-ALLDAYEVENT:FALSE
SUMMARY:2016 Spain Trade Mission
DESCRIPTION:Join us for our Annual Spain Trade Mission\, being led by Mayor Ivy Taylor taking place from Saturday\, May 21\, 2016 through the following Saturday\, May 28\, 2016! For questions please contact Luis Rodriguez at luisr@sahcc.org or 210-208-8225.
X-ALT-DESC;FMTTYPE=text/html:<DIV style="FONT-FAMILY: Arial"><P style="BORDER-TOP: 0px\; BORDER-RIGHT: 0px\; VERTICAL-ALIGN: baseline\; BACKGROUND: rgb(255\,255\,255)\; WHITE-SPACE: normal\; WORD-SPACING: 0px\; BORDER-BOTTOM: 0px\; TEXT-TRANSFORM: none\; COLOR: rgb(72\,66\,63)\; OUTLINE-WIDTH: 0px\; PADDING-BOTTOM: 10px\; TEXT-ALIGN: center\; PADDING-TOP: 0px\; FONT: 12px/24px 'Droid Sans'\, Arial\, sans-serif\; OUTLINE-STYLE: none\; PADDING-LEFT: 0px\; MARGIN: 0px\; BORDER-LEFT: 0px\; WIDOWS: 1\; LETTER-SPACING: normal\; OUTLINE-COLOR: invert\; PADDING-RIGHT: 0px\; TEXT-INDENT: 0px\; -webkit-text-stroke-width: 0px">Join us for our Annual Spain Trade Mission\, being led by Mayor Ivy Taylor taking place from Saturday\, May 21\, 2016 through the following Saturday\, May 28\, 2016!&nbsp\;</P><P style="BORDER-TOP: 0px\; BORDER-RIGHT: 0px\; VERTICAL-ALIGN: baseline\; BACKGROUND: rgb(255\,255\,255)\; WHITE-SPACE: normal\; WORD-SPACING: 0px\; BORDER-BOTTOM: 0px\; TEXT-TRANSFORM: none\; COLOR: rgb(72\,66\,63)\; OUTLINE-WIDTH: 0px\; PADDING-BOTTOM: 10px\; TEXT-ALIGN: center\; PADDING-TOP: 0px\; FONT: 12px/24px 'Droid Sans'\, Arial\, sans-serif\; OUTLINE-STYLE: none\; PADDING-LEFT: 0px\; MARGIN: 0px\; BORDER-LEFT: 0px\; WIDOWS: 1\; LETTER-SPACING: normal\; OUTLINE-COLOR: invert\; PADDING-RIGHT: 0px\; TEXT-INDENT: 0px\; -webkit-text-stroke-width: 0px">For questions please contact Luis Rodriguez at luisr@sahcc.org or 210-208-8225.</P></DIV>
LOCATION:
UID:e.2966.279
SEQUENCE:3
DTSTAMP:20260424T153051Z
URL:http://sahcc-dev.chambermaster.com/events/details/2016-spain-trade-mission-279
END:VEVENT

END:VCALENDAR
