BEGIN:VCALENDAR
VERSION:2.0
PRODID:-//ChamberMaster//Event Calendar 2.0//EN
METHOD:PUBLISH
X-PUBLISHED-TTL:P3D
REFRESH-INTERVAL:P3D
CALSCALE:GREGORIAN
BEGIN:VEVENT
DTSTART:20161103T163000Z
DTEND:20161103T180000Z
X-MICROSOFT-CDO-ALLDAYEVENT:FALSE
SUMMARY:2016 CORE4 STEM VIP Luncheon
DESCRIPTION:
X-ALT-DESC;FMTTYPE=text/html:
LOCATION:Omni San Antonio Hotel at the Colonnade9821 Colonnade Blvd. San Antonio\, TX 78230
UID:e.2966.336
SEQUENCE:3
DTSTAMP:20260421T023835Z
URL:http://sahcc-dev.chambermaster.com/events/details/2016-core4-stem-vip-luncheon-336
END:VEVENT

END:VCALENDAR
