BEGIN:VCALENDAR
VERSION:2.0
PRODID:-//ChamberMaster//Event Calendar 2.0//EN
METHOD:PUBLISH
X-PUBLISHED-TTL:P3D
REFRESH-INTERVAL:P3D
CALSCALE:GREGORIAN
BEGIN:VEVENT
DTSTART:20161004T121500Z
DTEND:20161004T220000Z
X-MICROSOFT-CDO-ALLDAYEVENT:FALSE
SUMMARY:2016 Business Connect Summit
DESCRIPTION:The San Antonio Hispanic Chamber of Commerce invites you to join us on Tuesday\, October 4\, 2016 for the seventh consecutive year\, as we present the 2016 Business Connect event at the Freeman Expo Hall\, the largest free small business event in San Antonio bringing together more than 1\,500 small businesses\, leaders and community influencers. This year’s Business Connect will be a multilayered event that brings together a full day of business matchmaking\, hands-on training workshops\, relationship building and resources for small businesses in San Antonio. \nFor more information\, please contact Martha Zurita\, VP of Small Business via email at Marthaz@sahcc.org or by phone at (210) 225-0462.
X-ALT-DESC;FMTTYPE=text/html:<DIV style="FONT-FAMILY: Arial" align=center><SPAN style="FONT-SIZE: large"><FONT size=3><FONT size=2>The San Antonio Hispanic Chamber of Commerce invites you to join us on&nbsp\;Tuesday\, October 4\, 2016&nbsp\;for the seventh consecutive year\,&nbsp\;as we&nbsp\;present&nbsp\;the&nbsp\;2016&nbsp\;Business Connect event at the Freeman Expo Hall\, the largest free small business event in San Antonio bringing together more than 1\,500 small businesses\, leaders and community influencers. This year’s Business Connect will be a multilayered event that brings together a full day of business matchmaking\, hands-on training workshops\, relationship building and resources for small businesses in San Antonio. </FONT></FONT></SPAN></DIV><SPAN style="FONT-SIZE: large"><FONT size=3><FONT size=2><DIV style="FONT-FAMILY: Arial" align=center><BR>For more information\, please contact Martha Zurita\, VP of Small Business via email at Marthaz@sahcc.org or by phone at (210) 225-0462.</FONT>&nbsp\;</DIV><DIV style="FONT-FAMILY: Arial" align=center>&nbsp\;</DIV><DIV style="FONT-FAMILY: Arial" align=center></FONT></SPAN>&nbsp\;</DIV><DIV style="FONT-FAMILY: Arial" align=center><SPAN style="FONT-SIZE: large"><FONT size=3></FONT></SPAN>&nbsp\;</DIV><DIV style="FONT-FAMILY: Arial" align=center><SPAN style="FONT-SIZE: large"><FONT size=3></FONT></SPAN>&nbsp\;</DIV>
LOCATION:Freeman Coliseum3201 E. Houston St. San Antonio\, TX 78219
UID:e.2966.328
SEQUENCE:3
DTSTAMP:20260423T222256Z
URL:http://sahcc-dev.chambermaster.com/events/details/2016-business-connect-summit-328
END:VEVENT

END:VCALENDAR
