BEGIN:VCALENDAR
VERSION:2.0
PRODID:-//ChamberMaster//Event Calendar 2.0//EN
METHOD:PUBLISH
X-PUBLISHED-TTL:P3D
REFRESH-INTERVAL:P3D
CALSCALE:GREGORIAN
BEGIN:VEVENT
DTSTART:20160614T230000Z
DTEND:20160615T020000Z
X-MICROSOFT-CDO-ALLDAYEVENT:FALSE
SUMMARY:2016 Business Awards Dinner
DESCRIPTION:
X-ALT-DESC;FMTTYPE=text/html:
LOCATION:Hyatt Regency Hill Country Resort9800 Hyatt Resort San Antonio\, TX 78251
UID:e.2966.300
SEQUENCE:3
DTSTAMP:20260423T075138Z
URL:http://sahcc-dev.chambermaster.com/events/details/2016-business-awards-dinner-300
END:VEVENT

END:VCALENDAR
