BEGIN:VCALENDAR
VERSION:2.0
PRODID:-//ChamberMaster//Event Calendar 2.0//EN
METHOD:PUBLISH
X-PUBLISHED-TTL:P3D
REFRESH-INTERVAL:P3D
CALSCALE:GREGORIAN
BEGIN:VEVENT
DTSTART:20160323T223000Z
DTEND:20160324T000000Z
X-MICROSOFT-CDO-ALLDAYEVENT:FALSE
SUMMARY:2016 ABLDP Recruitment Mixer
DESCRIPTION:
X-ALT-DESC;FMTTYPE=text/html:
LOCATION:Viva Villa Taqueria905 Dolorosa San Antonio\, TX 78207
UID:e.2966.277
SEQUENCE:3
DTSTAMP:20260425T145257Z
URL:http://sahcc-dev.chambermaster.com/events/details/2016-abldp-recruitment-mixer-277
END:VEVENT

END:VCALENDAR
